BEGIN:VCALENDAR
VERSION:2.0
PRODID:-//ChamberMaster//Event Calendar 2.0//EN
METHOD:PUBLISH
X-PUBLISHED-TTL:P3D
REFRESH-INTERVAL:P3D
CALSCALE:GREGORIAN
BEGIN:VEVENT
DTSTART:20260430T220000Z
DTEND:20260430T230000Z
X-MICROSOFT-CDO-ALLDAYEVENT:FALSE
SUMMARY:Ribbon Cutting: The Hive Trampoline Park
DESCRIPTION:The Hive Trampoline & Adventure Park has officially opened a new location in Ogden at 145 N. Harrisville Rd.\n\n\n\nOwned by a Utah-based family\, The Hive's first location in Spanish Fork is the largest trampoline park in Utah. The new Ogden facility brings the same energy and family-focused atmosphere to Weber County.\n\n\n\nThe park features a wide variety of attractions including trampolines\, inflatable park\, slides\, dunk hoops\, dodgeball\, sports courts\, a ninja course\, and a climbing wall\, offering active fun for kids of all ages.\n\n\n\nThe Hive was designed with parents in mind as well. The park includes 30 leather couches\, massage chairs\, and a caf  serving pizza and other favorites\, creating a comfortable place for families to relax while kids play.
X-ALT-DESC;FMTTYPE=text/html:<span style="color: rgb(36\, 39\, 72)\; font-family: -apple-system\, &quot\;system-ui&quot\;\, &quot\;Segoe UI&quot\;\, Roboto\, Oxygen-Sans\, Ubuntu\, Cantarell\, &quot\;Helvetica Neue&quot\;\, sans-serif\;">The Hive Trampoline &amp\; Adventure Park has officially opened a new location in Ogden at 145 N. Harrisville Rd.</span><br style="direction: ltr\; color: rgb(36\, 39\, 72)\; font-family: -apple-system\, &quot\;system-ui&quot\;\, &quot\;Segoe UI&quot\;\, Roboto\, Oxygen-Sans\, Ubuntu\, Cantarell\, &quot\;Helvetica Neue&quot\;\, sans-serif\; box-sizing: border-box !important\;" />\n<br style="direction: ltr\; color: rgb(36\, 39\, 72)\; font-family: -apple-system\, &quot\;system-ui&quot\;\, &quot\;Segoe UI&quot\;\, Roboto\, Oxygen-Sans\, Ubuntu\, Cantarell\, &quot\;Helvetica Neue&quot\;\, sans-serif\; box-sizing: border-box !important\;" />\n<span style="color: rgb(36\, 39\, 72)\; font-family: -apple-system\, &quot\;system-ui&quot\;\, &quot\;Segoe UI&quot\;\, Roboto\, Oxygen-Sans\, Ubuntu\, Cantarell\, &quot\;Helvetica Neue&quot\;\, sans-serif\;">Owned by a Utah-based family\, The Hive&rsquo\;s first location in Spanish Fork is the largest trampoline park in Utah. The new Ogden facility brings the same energy and family-focused atmosphere to Weber County.</span><br style="direction: ltr\; color: rgb(36\, 39\, 72)\; font-family: -apple-system\, &quot\;system-ui&quot\;\, &quot\;Segoe UI&quot\;\, Roboto\, Oxygen-Sans\, Ubuntu\, Cantarell\, &quot\;Helvetica Neue&quot\;\, sans-serif\; box-sizing: border-box !important\;" />\n<br style="direction: ltr\; color: rgb(36\, 39\, 72)\; font-family: -apple-system\, &quot\;system-ui&quot\;\, &quot\;Segoe UI&quot\;\, Roboto\, Oxygen-Sans\, Ubuntu\, Cantarell\, &quot\;Helvetica Neue&quot\;\, sans-serif\; box-sizing: border-box !important\;" />\n<span style="color: rgb(36\, 39\, 72)\; font-family: -apple-system\, &quot\;system-ui&quot\;\, &quot\;Segoe UI&quot\;\, Roboto\, Oxygen-Sans\, Ubuntu\, Cantarell\, &quot\;Helvetica Neue&quot\;\, sans-serif\;">The park features a wide variety of attractions including trampolines\, inflatable park\, slides\, dunk hoops\, dodgeball\, sports courts\, a ninja course\, and a climbing wall\, offering active fun for kids of all ages.</span><br style="direction: ltr\; color: rgb(36\, 39\, 72)\; font-family: -apple-system\, &quot\;system-ui&quot\;\, &quot\;Segoe UI&quot\;\, Roboto\, Oxygen-Sans\, Ubuntu\, Cantarell\, &quot\;Helvetica Neue&quot\;\, sans-serif\; box-sizing: border-box !important\;" />\n<br style="direction: ltr\; color: rgb(36\, 39\, 72)\; font-family: -apple-system\, &quot\;system-ui&quot\;\, &quot\;Segoe UI&quot\;\, Roboto\, Oxygen-Sans\, Ubuntu\, Cantarell\, &quot\;Helvetica Neue&quot\;\, sans-serif\; box-sizing: border-box !important\;" />\n<span style="color: rgb(36\, 39\, 72)\; font-family: -apple-system\, &quot\;system-ui&quot\;\, &quot\;Segoe UI&quot\;\, Roboto\, Oxygen-Sans\, Ubuntu\, Cantarell\, &quot\;Helvetica Neue&quot\;\, sans-serif\;">The Hive was designed with parents in mind as well. The park includes 30 leather couches\, massage chairs\, and a caf&eacute\; serving pizza and other favorites\, creating a comfortable place for families to relax while kids play.</span>
LOCATION:145 N Harrisville Rd Ogden\, Utah 84404
UID:e.2934.23122
SEQUENCE:3
DTSTAMP:20260422T015836Z
URL:https://members.ogdenweberchamber.com/events/details/ribbon-cutting-the-hive-trampoline-park-23122
END:VEVENT

END:VCALENDAR
